BEGIN:VCALENDAR
VERSION:2.0
PRODID:-//eventon.com NONSGML v1.0//EN
CALSCALE:GREGORIAN
METHOD:PUBLISH
BEGIN:VEVENT
UID:69e744f5baef4
DTSTAMP:20260421T093549Z
DTSTART:20200803T190000Z
DTEND:20200803T220000Z
LOCATION:Bureau municipal 473\,  rue Jacques Cartier
SUMMARY:Séances publiques
DESCRIPTION:Séances publiques\nhttps://riviere-au-tonnerre.ca/events/seanc
 es-publiques-5/
URL:https://riviere-au-tonnerre.ca/events/seances-publiques-5/
END:VEVENT
END:VCALENDAR