BEGIN:VCALENDAR
VERSION:2.0
PRODID:-//eventon.com NONSGML v1.0//EN
CALSCALE:GREGORIAN
METHOD:PUBLISH
BEGIN:VEVENT
UID:69e88fcc5bc69
DTSTAMP:20260422T090724Z
DTSTART:20191211T170000Z
DTEND:20191211T190000Z
LOCATION:Maison du Tonnerre 383\,  rue Jacques-Cartier
SUMMARY:Souper de Noël des jeunes
DESCRIPTION:Souper de Noël des jeunes\nhttps://riviere-au-tonnerre.ca/even
 ts/souper-de-noel-des-jeunes/
URL:https://riviere-au-tonnerre.ca/events/souper-de-noel-des-jeunes/
END:VEVENT
END:VCALENDAR