BEGIN:VCALENDAR
VERSION:2.0
PRODID:-//eventon.com NONSGML v1.0//EN
CALSCALE:GREGORIAN
METHOD:PUBLISH
BEGIN:VEVENT
UID:69e88a46647ab
DTSTAMP:20260422T084350Z
DTSTART:20210928
DTEND:20210929
LOCATION:
SUMMARY:Collecte des matières recyclables
DESCRIPTION:Collecte des matières recyclables\nhttps://riviere-au-tonnerre
 .ca/events/collecte-des-matieres-recyclables-9/var/ri-1.l-L1
URL:https://riviere-au-tonnerre.ca/events/collecte-des-matieres-recyclables-9/var/ri-1.l-L1
END:VEVENT
END:VCALENDAR