BEGIN:VCALENDAR
VERSION:2.0
PRODID:-//eventon.com NONSGML v1.0//EN
CALSCALE:GREGORIAN
METHOD:PUBLISH
BEGIN:VEVENT
UID:69e74423b5f02
DTSTAMP:20260421T093219Z
DTSTART:20210623
DTEND:20210624
LOCATION:
SUMMARY:Collecte des ordures ménagères
DESCRIPTION:Collecte des ordures ménagères\nhttps://riviere-au-tonnerre.c
 a/events/collecte-des-ordures-menageres-11/
URL:https://riviere-au-tonnerre.ca/events/collecte-des-ordures-menageres-11/
END:VEVENT
END:VCALENDAR