BEGIN:VCALENDAR
VERSION:2.0
PRODID:-//eventon.com NONSGML v1.0//EN
CALSCALE:GREGORIAN
METHOD:PUBLISH
BEGIN:VEVENT
UID:69e7317a4e66c
DTSTAMP:20260421T081242Z
DTSTART:20210630
DTEND:20210701
LOCATION:
SUMMARY:Collecte des ordures ménagères
DESCRIPTION:Collecte des ordures ménagères\nhttps://riviere-au-tonnerre.c
 a/events/collecte-des-ordures-menageres-11/var/ri-1.l-L1
URL:https://riviere-au-tonnerre.ca/events/collecte-des-ordures-menageres-11/var/ri-1.l-L1
END:VEVENT
END:VCALENDAR