BEGIN:VCALENDAR
VERSION:2.0
PRODID:-//eventon.com NONSGML v1.0//EN
CALSCALE:GREGORIAN
METHOD:PUBLISH
BEGIN:VEVENT
UID:69e7304a219c1
DTSTAMP:20260421T080738Z
DTSTART:20190114T190000Z
DTEND:20190114T220000Z
LOCATION:Bureau municipal 473\,  rue Jacques Cartier
SUMMARY:Séances publiques
DESCRIPTION:Séances publiques\nhttps://riviere-au-tonnerre.ca/events/seanc
 es-publiques/
URL:https://riviere-au-tonnerre.ca/events/seances-publiques/
END:VEVENT
END:VCALENDAR