BEGIN:VCALENDAR
VERSION:2.0
PRODID:-//eventon.com NONSGML v1.0//EN
CALSCALE:GREGORIAN
METHOD:PUBLISH
BEGIN:VEVENT
UID:69e89ddc6dd6b
DTSTAMP:20260422T100724Z
DTSTART:20220104
DTEND:20220105
LOCATION:
SUMMARY:Collecte des matières recyclables
DESCRIPTION:Collecte des matières recyclables\nhttps://riviere-au-tonnerre
 .ca/events/collecte-des-matieres-recyclables-11/
URL:https://riviere-au-tonnerre.ca/events/collecte-des-matieres-recyclables-11/
END:VEVENT
END:VCALENDAR