BEGIN:VCALENDAR
VERSION:2.0
PRODID:-//eventon.com NONSGML v1.0//EN
CALSCALE:GREGORIAN
METHOD:PUBLISH
BEGIN:VEVENT
UID:69e88cf0d7e93
DTSTAMP:20260422T085512Z
DTSTART:20220201
DTEND:20220202
LOCATION:
SUMMARY:Collecte des matières recyclables
DESCRIPTION:Collecte des matières recyclables\nhttps://riviere-au-tonnerre
 .ca/events/collecte-des-matieres-recyclables-11/var/ri-2.l-L1
URL:https://riviere-au-tonnerre.ca/events/collecte-des-matieres-recyclables-11/var/ri-2.l-L1
END:VEVENT
END:VCALENDAR