BEGIN:VCALENDAR
VERSION:2.0
PRODID:-//eventon.com NONSGML v1.0//EN
CALSCALE:GREGORIAN
METHOD:PUBLISH
BEGIN:VEVENT
UID:69e7bcc9776f1
DTSTAMP:20260421T180705Z
DTSTART:20230104
DTEND:20230105
LOCATION:
SUMMARY:Collecte des matières recyclables
DESCRIPTION:Collecte des matières recyclables\nhttps://riviere-au-tonnerre
 .ca/events/collecte-des-matieres-recyclables-2023/
URL:https://riviere-au-tonnerre.ca/events/collecte-des-matieres-recyclables-2023/
END:VEVENT
END:VCALENDAR