BEGIN:VCALENDAR
VERSION:2.0
PRODID:-//eventon.com NONSGML v1.0//EN
CALSCALE:GREGORIAN
METHOD:PUBLISH
BEGIN:VEVENT
UID:69e88f8cbf743
DTSTAMP:20260422T090620Z
DTSTART:20230131
DTEND:20230201
LOCATION:
SUMMARY:Collecte des matières recyclables
DESCRIPTION:Collecte des matières recyclables\nhttps://riviere-au-tonnerre
 .ca/events/collecte-des-matieres-recyclables-2023/var/ri-2.l-L1
URL:https://riviere-au-tonnerre.ca/events/collecte-des-matieres-recyclables-2023/var/ri-2.l-L1
END:VEVENT
END:VCALENDAR