BEGIN:VCALENDAR
VERSION:2.0
PRODID:-//eventon.com NONSGML v1.0//EN
CALSCALE:GREGORIAN
METHOD:PUBLISH
BEGIN:VEVENT
UID:69e734dbc0995
DTSTAMP:20260421T082707Z
DTSTART:20250918T020000Z
DTEND:20250918T040000Z
LOCATION:Bureau municipal 473\,  rue Jacques Cartier
SUMMARY:Séances ordinaires du conseil de la MRC
DESCRIPTION:Séances ordinaires du conseil de la MRC\nhttps://riviere-au-to
 nnerre.ca/events/seances-ordinaires-du-conseil-de-la-mrc/var/ri-8.l-L1
URL:https://riviere-au-tonnerre.ca/events/seances-ordinaires-du-conseil-de-la-mrc/var/ri-8.l-L1
END:VEVENT
END:VCALENDAR