BEGIN:VCALENDAR
VERSION:2.0
PRODID:-//eventon.com NONSGML v1.0//EN
CALSCALE:GREGORIAN
METHOD:PUBLISH
BEGIN:VEVENT
UID:69e66c425d287
DTSTAMP:20260420T181114Z
DTSTART:20261208T060000Z
DTEND:20261208T080000Z
LOCATION:Bureau municipal 473\,  rue Jacques Cartier
SUMMARY:Séances ordinaires du conseil
DESCRIPTION:Séances ordinaires du conseil\nhttps://riviere-au-tonnerre.ca/
 events/seances-ordinaires-du-conseil-5/var/ri-11.l-L1
URL:https://riviere-au-tonnerre.ca/events/seances-ordinaires-du-conseil-5/var/ri-11.l-L1
END:VEVENT
END:VCALENDAR